BEGIN:VCALENDAR
VERSION:2.0
PRODID:-//hacksw/handcal//NONSGML v1.0//EN
CALSCALE:GREGORIAN
BEGIN:VEVENT
DTEND:20251118T103000
UID:69e8e2eb9d177
DTSTAMP:20260422T110203
LOCATION:Ballroom 2 & Ballroom 3
DESCRIPTION:http://www.issuesofsubstance.ca/conversation-federal-leaders-responding-substance-use-health-canada
URI:http://www.issuesofsubstance.ca/conversation-federal-leaders-responding-substance-use-health-canada
SUMMARY:In Conversation with Federal Leaders: Responding to Substance Use Health in Canada
DTSTART:20251118T093000
END:VEVENT
END:VCALENDAR

    