BEGIN:VCALENDAR
VERSION:2.0
PRODID:-//hacksw/handcal//NONSGML v1.0//EN
CALSCALE:GREGORIAN
BEGIN:VEVENT
DTEND:20251117T170000
UID:69e8dad2e5024
DTSTAMP:20260422T102730
LOCATION:Room 608 & Room 609
DESCRIPTION:http://www.issuesofsubstance.ca/late-breaking-strengthening-continuum-care
URI:http://www.issuesofsubstance.ca/late-breaking-strengthening-continuum-care
SUMMARY:Late Breaking: Strengthening the Continuum of Care
DTSTART:20251117T153000
END:VEVENT
END:VCALENDAR

    