BEGIN:VCALENDAR
VERSION:2.0
PRODID:-//hacksw/handcal//NONSGML v1.0//EN
CALSCALE:GREGORIAN
BEGIN:VEVENT
DTEND:20251118T123000
UID:69e8f7d3b5a09
DTSTAMP:20260422T123115
LOCATION:Room 608 & Room 609
DESCRIPTION:http://www.issuesofsubstance.ca/late-breaking-intersection-paths-mental-health-and-substance-use-health
URI:http://www.issuesofsubstance.ca/late-breaking-intersection-paths-mental-health-and-substance-use-health
SUMMARY:Late Breaking: Intersection Paths: Mental Health and Substance Use Health
DTSTART:20251118T110000
END:VEVENT
END:VCALENDAR

    