BEGIN:VCALENDAR
VERSION:2.0
PRODID:-//hacksw/handcal//NONSGML v1.0//EN
CALSCALE:GREGORIAN
BEGIN:VEVENT
DTEND:20251118T150000
UID:69e8dd8e1bb31
DTSTAMP:20260422T103910
LOCATION:Room 503
DESCRIPTION:http://www.issuesofsubstance.ca/late-breaking-measuring-and-responding-substance-use-changing-landscape
URI:http://www.issuesofsubstance.ca/late-breaking-measuring-and-responding-substance-use-changing-landscape
SUMMARY:Late Breaking: Measuring and Responding to Substance Use in a Changing Landscape 
DTSTART:20251118T133000
END:VEVENT
END:VCALENDAR

    