BEGIN:VCALENDAR
VERSION:2.0
PRODID:-//hacksw/handcal//NONSGML v1.0//EN
CALSCALE:GREGORIAN
BEGIN:VEVENT
DTEND:20251118T170000
UID:69e8fb2a8c92d
DTSTAMP:20260422T124530
LOCATION:Room 603 & Room 604
DESCRIPTION:http://www.issuesofsubstance.ca/late-breaking-community-and-policy-perspectives-substance-use-health
URI:http://www.issuesofsubstance.ca/late-breaking-community-and-policy-perspectives-substance-use-health
SUMMARY:Late Breaking: Community and Policy Perspectives on Substance Use Health 
DTSTART:20251118T153000
END:VEVENT
END:VCALENDAR

    